BEGIN:VCALENDAR
VERSION:2.0
PRODID:-//DeepRhythm - ECPv6.15.20//NONSGML v1.0//EN
CALSCALE:GREGORIAN
METHOD:PUBLISH
X-WR-CALNAME:DeepRhythm
X-ORIGINAL-URL:https://deeprhythm.net
X-WR-CALDESC:Events for DeepRhythm
REFRESH-INTERVAL;VALUE=DURATION:PT1H
X-Robots-Tag:noindex
X-PUBLISHED-TTL:PT1H
BEGIN:VTIMEZONE
TZID:Asia/Jerusalem
BEGIN:DAYLIGHT
TZOFFSETFROM:+0200
TZOFFSETTO:+0300
TZNAME:IDT
DTSTART:20250328T000000
END:DAYLIGHT
BEGIN:STANDARD
TZOFFSETFROM:+0300
TZOFFSETTO:+0200
TZNAME:IST
DTSTART:20251025T230000
END:STANDARD
BEGIN:DAYLIGHT
TZOFFSETFROM:+0200
TZOFFSETTO:+0300
TZNAME:IDT
DTSTART:20260327T000000
END:DAYLIGHT
BEGIN:STANDARD
TZOFFSETFROM:+0300
TZOFFSETTO:+0200
TZNAME:IST
DTSTART:20261024T230000
END:STANDARD
BEGIN:DAYLIGHT
TZOFFSETFROM:+0200
TZOFFSETTO:+0300
TZNAME:IDT
DTSTART:20270326T000000
END:DAYLIGHT
BEGIN:STANDARD
TZOFFSETFROM:+0300
TZOFFSETTO:+0200
TZNAME:IST
DTSTART:20271030T230000
END:STANDARD
END:VTIMEZONE
BEGIN:VEVENT
DTSTART;VALUE=DATE:20261027
DTEND;VALUE=DATE:20261028
DTSTAMP:20260423T180243
CREATED:20210203T170107Z
LAST-MODIFIED:20260402T112924Z
UID:15784-1793059200-1793145599@deeprhythm.net
SUMMARY:Birthday - Mariana BO
DESCRIPTION:
URL:https://deeprhythm.net/event/birthday-mariana-bo/
CATEGORIES:Birthdays
ATTACH;FMTTYPE=image/jpeg:https://deeprhythm.net/wp-content/uploads/2020/07/74239309_2205569142881336_2890040118603677696_n.jpg
END:VEVENT
END:VCALENDAR